BEGIN:VCALENDAR
VERSION:2.0
PRODID:-//PRIMA Québec - ECPv6.2.8.1//NONSGML v1.0//EN
CALSCALE:GREGORIAN
METHOD:PUBLISH
X-WR-CALNAME:PRIMA Québec
X-ORIGINAL-URL:https://www.prima.ca
X-WR-CALDESC:Events for PRIMA Québec
REFRESH-INTERVAL;VALUE=DURATION:PT1H
X-Robots-Tag:noindex
X-PUBLISHED-TTL:PT1H
BEGIN:VTIMEZONE
TZID:America/Toronto
BEGIN:DAYLIGHT
TZOFFSETFROM:-0500
TZOFFSETTO:-0400
TZNAME:EDT
DTSTART:20210314T070000
END:DAYLIGHT
BEGIN:STANDARD
TZOFFSETFROM:-0400
TZOFFSETTO:-0500
TZNAME:EST
DTSTART:20211107T060000
END:STANDARD
END:VTIMEZONE
BEGIN:VEVENT
DTSTART;VALUE=DATE:20211201
DTEND;VALUE=DATE:20211203
DTSTAMP:20260422T105205
CREATED:20211029T131030Z
LAST-MODIFIED:20211102T153514Z
UID:5951-1638316800-1638489599@www.prima.ca
SUMMARY:Séance de réseautage Auvergne Rhône-Alpes/Québec sur l'industrie du futur
DESCRIPTION:Les pôles régionaux CIMES et Minalogic organisent en partenariat avec les pôles québécois PRIMA et ISEQ un évènement de matchmaking sur deux jours (demi-journées avec le décalage horaire) autour de l’industrie du futur les 1er et 2 décembre prochain. \nDeux briques technologiques ont particulièrement été ciblées pour cet évènement : le premier jour sera dédié à la fabrication additive métallique et le second aux capteurs quantiques. \nAu programme : présentation des différents écosystèmes\, de guichets de financements pour des projets collaboratifs innovants et de success stories régionales\, suivie par un temps de matchmaking / rdv B2B en ligne. \nLien d’inscription sur la plateforme à venir. \nPour plus d’informations consultez la page de l’événement. \n 
URL:https://www.prima.ca/evenement/matchmaking-auvergne-rhone-alpes-quebec-sur-lindustrie-du-futur/
LOCATION:FL
ATTACH;FMTTYPE=image/png:https://www.prima.ca/wp-content/uploads/2021/10/Matchmaking.png
END:VEVENT
BEGIN:VEVENT
DTSTART;TZID=America/Toronto:20211214T070000
DTEND;TZID=America/Toronto:20211214T093000
DTSTAMP:20260422T105205
CREATED:20211117T202132Z
LAST-MODIFIED:20211117T202132Z
UID:6030-1639465200-1639474200@www.prima.ca
SUMMARY:Déclic Techno #3
DESCRIPTION:Rendez-vous des startups et industrie de l’électronique\nL’ISEQ propose ce rendez-vous mensuel pour permettre à l’industrie électronique d’être en relation avec des startups utilisant de l’électronique. L’ISEQ fait appel à sa communauté de pratique pour répondre présents et soutenir nos jeunes pousses dans les différentes étapes de leur croissance. \nParmi les nouveautés\, Déclic Techno offre un suivi de l’évolution des startups ayant pitché précédemment sous la forme de témoignages. Déclic Techno invite des acteurs majeurs de l’écosytème startups pour comprendre les enjeux dans le but d’encourager la collaboration et les partenariats entre les PME et les startups. \nDéclic Techno c’est: \n\n2 pitchs de startups\n1 témoignage expertise\n1 suvi d’évolution sur des anciens présentateurs\nGratuit et en ligne\n 7h – 9 h 30\nLes 2e mardis du mois\nStartups issues d’incubateurs de toute la province\nOn passe en revue leurs offres\, services et besoins\nOn s’informe sur les possibilités de partenariat\n\nPlus d’informations en cliquant ici.
URL:https://www.prima.ca/evenement/declic-techno-3/
LOCATION:FL
ATTACH;FMTTYPE=image/png:https://www.prima.ca/wp-content/uploads/2021/11/declic-techno-iseq-1631639323.png
END:VEVENT
END:VCALENDAR