BEGIN:VCALENDAR
VERSION:2.0
PRODID:-//PRIMA Québec - ECPv6.2.8.1//NONSGML v1.0//EN
CALSCALE:GREGORIAN
METHOD:PUBLISH
X-ORIGINAL-URL:https://www.prima.ca
X-WR-CALDESC:Events for PRIMA Québec
REFRESH-INTERVAL;VALUE=DURATION:PT1H
X-Robots-Tag:noindex
X-PUBLISHED-TTL:PT1H
BEGIN:VTIMEZONE
TZID:America/Toronto
BEGIN:DAYLIGHT
TZOFFSETFROM:-0500
TZOFFSETTO:-0400
TZNAME:EDT
DTSTART:20210314T070000
END:DAYLIGHT
BEGIN:STANDARD
TZOFFSETFROM:-0400
TZOFFSETTO:-0500
TZNAME:EST
DTSTART:20211107T060000
END:STANDARD
END:VTIMEZONE
BEGIN:VEVENT
DTSTART;VALUE=DATE:20210818
DTEND;VALUE=DATE:20210820
DTSTAMP:20260423T200131
CREATED:20210727T123403Z
LAST-MODIFIED:20210727T123403Z
UID:5407-1629244800-1629417599@www.prima.ca
SUMMARY:CIMEQ: 3e forum sur l'innovation
DESCRIPTION:L’intelligence artificielle : Les environnements intelligents \nLes avancées de l’intelligence artificielle sont mondialement incontestables\, et Montréal s’avère être une plateforme de choix pour son développement. Les nouvelles technologies composant les différents domaines de l’IA s’infiltrent de plus en plus dans notre vie quotidienne avec l’émergence d’idées novatrices et de projets uniques favorisant des retombées économiques significatives. Dans cet univers fascinant de l’IA qui découle de la science-fiction\, on cherche à comprendre\, démystifier\, intégrer et y vivre en pleine symbiose et synergie. \n\nParticiper au 3e forum sur l’innovation avec le thème\, l’intelligence artificielle – les environnements intelligents\, les 18 et 19 août prochains. Au programme\, Conférences\, ateliers de travail\, exposition\, etc. \n► Lucie Lecours\, ministre déléguée au ministère de l’Économie et de l’Innovation;\n► Luc Sirois\, Innovateur en chef du Québec;\n► Marco Blouin\, Directeur général de la Science et de l’Innovation au MEI;\n► Force.AI;\n► Et plusieurs autres. \nPour plus d’informations et pour vous inscrire\, cliquez ici.
URL:https://www.prima.ca/evenement/cimeq-3e-forum-sur-linnovation/
LOCATION:FL
ATTACH;FMTTYPE=image/png:https://www.prima.ca/wp-content/uploads/2021/07/Forum-innovation-IA-CIMEQ.png
END:VEVENT
BEGIN:VEVENT
DTSTART;TZID=America/Toronto:20210830T123000
DTEND;TZID=America/Toronto:20210830T133000
DTSTAMP:20260423T200131
CREATED:20210830T133357Z
LAST-MODIFIED:20210830T133357Z
UID:5554-1630326600-1630330200@www.prima.ca
SUMMARY:Automotive Zero-Emissions Manufacturing Challenge
DESCRIPTION:Défi de la fabrication automobile à émissions zéro \nNGen investira jusqu’à 20 millions de dollars dans des projets de R&D innovants et collaboratifs de fabrication avancée dans le domaine des véhicules électriques à batterie et à pile à combustible sur route. \nLe portail de candidature des projets ouvre le 2 septembre 2021 \nDate limite de soumission : 7 octobre 2021 17h00 \nUne séance de questions-réponses est organisé le 30 aout à 12h30 à l’intention des entreprises qui demandent un financement pour le Défi EV et qui ont examiné la vidéo sur le Défi EV ainsi que les guides en ligne. \nVeuillez vous assurer que vous avez lu les guides de projet et toutes les informations pertinentes sur le site Web de NGen.
URL:https://www.prima.ca/evenement/automotive-zero-emissions-manufacturing-challenge/
LOCATION:FL
ATTACH;FMTTYPE=image/png:https://www.prima.ca/wp-content/uploads/2021/08/Image1.png
END:VEVENT
END:VCALENDAR