BEGIN:VCALENDAR
VERSION:2.0
PRODID:-//PRIMA Québec - ECPv6.2.8.1//NONSGML v1.0//EN
CALSCALE:GREGORIAN
METHOD:PUBLISH
X-ORIGINAL-URL:https://www.prima.ca
X-WR-CALDESC:Events for PRIMA Québec
REFRESH-INTERVAL;VALUE=DURATION:PT1H
X-Robots-Tag:noindex
X-PUBLISHED-TTL:PT1H
BEGIN:VTIMEZONE
TZID:America/Toronto
BEGIN:DAYLIGHT
TZOFFSETFROM:-0500
TZOFFSETTO:-0400
TZNAME:EDT
DTSTART:20210314T070000
END:DAYLIGHT
BEGIN:STANDARD
TZOFFSETFROM:-0400
TZOFFSETTO:-0500
TZNAME:EST
DTSTART:20211107T060000
END:STANDARD
END:VTIMEZONE
BEGIN:VEVENT
DTSTART;TZID=America/Toronto:20210428T090000
DTEND;TZID=America/Toronto:20210428T230000
DTSTAMP:20260423T205804
CREATED:20210316T131124Z
LAST-MODIFIED:20210401T125512Z
UID:4499-1619600400-1619650800@www.prima.ca
SUMMARY:Webinaire & Matchmaking transatlantique: Technologies liées aux batteries | Appel M-ERA.NET 2021
DESCRIPTION:Technologies liées aux batteries | Appel M ERA.NET 2021\nLes inscriptions sont ouvertes !  \nWallonie-Bruxelles International\, le pôle Mecatech\, le SPW-EER et le F.R.S.-FNRS\, en collaboration avec PRIMA Québec\, le Ministère québécois de l’Economie et de l’Innovation et l’Alliance bavaroise pour la recherche\, vous invitent à l’activité de maillage virtuel dédiée à l’appel à propositions M ERA NET 2021. La thématique de l’appel à proposition cible un enjeu industriel fondamental pour l’Europe et le Québec : les matériaux pour les batteries du futur (pour soutenir le développement d’une économie circulaire et l’atteinte des objectifs de développement durable). \nL’activité est prévue le 28 avril à 9h00 (Québec)/15h00 (Bruxelles)/16h00 (Helsinki). Des intervenants de l’industrie et du milieu de la recherche de quatre régions du monde : la Wallonie\, le Québec\, la Bavière et la Scandinavie y participeront pour rencontrer de nouveaux partenaires et rejoindre des consortiums de R&D de classe mondiale. \nInscrivez-vous sans attendre via ce lien ! \nAu programme : \n\n15 pitchs de partenaires de R&D – centres de recherche\, universités et entreprises.\nUne session de réseautage en ligne pour rencontrer vos partenaires du Québec\, de Wallonie-Bruxelles\, d’Allemagne\, de Finlande\, du Danemark\, de Norvège et de Suède.\nL’opportunité de poser toutes vos questions à votre agence de financement concernant les règles de cet appel à propositions (via une session de Q&R après le pitch).\n\nVous souhaitez participer à cet évènement ?  \nLes inscriptions sont désormais ouvertes ! \nM ERA NET 3 en bref \nM ERA NET 3 est un réseau d’agences et de programmes de financement destinés à soutenir des projets de recherche collaboratifs dans le domaine des  matériaux pour les technologies énergétiques à faible teneur en carbone\, mais aussi les batteries du futur dans le cadre du « Green Deal » européen. \n45 organismes de financement nationaux et régionaux participent à l’appel à propositions 2021\, avec un budget total d’environ 57 millions d’euros\, y compris le financement complémentaire de la Commission européenne. \nDes informations sur l’appel à propositions 2021 sont disponibles sur le site web de M ERA NET.
URL:https://www.prima.ca/evenement/webinaire-matchmaking-transatlantique-technologies-liees-aux-batteries-appel-m-era-net-2021/
LOCATION:FL
ATTACH;FMTTYPE=image/png:https://www.prima.ca/wp-content/uploads/2021/03/webinaire_28Avril-VF-.png
END:VEVENT
END:VCALENDAR