BEGIN:VCALENDAR
VERSION:2.0
PRODID:-//PRIMA Québec - ECPv6.2.8.1//NONSGML v1.0//EN
CALSCALE:GREGORIAN
METHOD:PUBLISH
X-ORIGINAL-URL:https://www.prima.ca
X-WR-CALDESC:Events for PRIMA Québec
REFRESH-INTERVAL;VALUE=DURATION:PT1H
X-Robots-Tag:noindex
X-PUBLISHED-TTL:PT1H
BEGIN:VTIMEZONE
TZID:America/Toronto
BEGIN:DAYLIGHT
TZOFFSETFROM:-0500
TZOFFSETTO:-0400
TZNAME:EDT
DTSTART:20220313T070000
END:DAYLIGHT
BEGIN:STANDARD
TZOFFSETFROM:-0400
TZOFFSETTO:-0500
TZNAME:EST
DTSTART:20221106T060000
END:STANDARD
END:VTIMEZONE
BEGIN:VEVENT
DTSTART;TZID=America/Toronto:20220126T100000
DTEND;TZID=America/Toronto:20220126T123000
DTSTAMP:20260423T214212
CREATED:20220118T131254Z
LAST-MODIFIED:20220118T131254Z
UID:6216-1643191200-1643200200@www.prima.ca
SUMMARY:Perspective Quantum #8
DESCRIPTION:L’ISEQ\, l’INTRIQ\, le COPL\, Québec Quantique\, Optonique et NUMANA vous invitent au 8e webinaire de la série Perspective Quantum avec Dominic Marchand de l’entreprise 1QBit sur le software quantique : repousser les limites. \nLe software quantique rejoint tous les aspects du développement de la technologie du calcul quantique\, de ses méthodes et de ses applications industrielles. Chaque couche du full-stack quantique\, de l’application jusqu’au contrôle des qubits\, nécessite ses méthodes et son support logiciel. En nous appuyant sur l’expérience unique accumulée par 1QBit au courant des 10 dernières années\, nous survolerons ce domaine en pleine effervescence et partagerons quelques leçons et tendances observées. \nPour en savoir plus et s’inscrire\, cliquez ici.
URL:https://www.prima.ca/evenement/perspective-quantum-8/
LOCATION:FL
ATTACH;FMTTYPE=image/png:https://www.prima.ca/wp-content/uploads/2022/01/Perspective_Quantum_8.png
END:VEVENT
END:VCALENDAR