BEGIN:VCALENDAR
VERSION:2.0
PRODID:-//PRIMA Québec - ECPv6.2.8.1//NONSGML v1.0//EN
CALSCALE:GREGORIAN
METHOD:PUBLISH
X-ORIGINAL-URL:https://www.prima.ca
X-WR-CALDESC:Events for PRIMA Québec
REFRESH-INTERVAL;VALUE=DURATION:PT1H
X-Robots-Tag:noindex
X-PUBLISHED-TTL:PT1H
BEGIN:VTIMEZONE
TZID:America/Toronto
BEGIN:DAYLIGHT
TZOFFSETFROM:-0500
TZOFFSETTO:-0400
TZNAME:EDT
DTSTART:20220313T070000
END:DAYLIGHT
BEGIN:STANDARD
TZOFFSETFROM:-0400
TZOFFSETTO:-0500
TZNAME:EST
DTSTART:20221106T060000
END:STANDARD
END:VTIMEZONE
BEGIN:VEVENT
DTSTART;VALUE=DATE:20220120
DTEND;VALUE=DATE:20220122
DTSTAMP:20260421T130321
CREATED:20211022T152308Z
LAST-MODIFIED:20211214T131118Z
UID:5852-1642636800-1642809599@www.prima.ca
SUMMARY:Sommet France-Québec sur le quantique
DESCRIPTION:Pour la première fois\, la CCI française au Canada organisera les 20 et 21 janvier 2022 un Sommet France-Québec sur le Quantique. \nDeux demi-journées s’articuleront autour de conférences\, ateliers\, témoignages et discussions sur les enjeux clés et opportunités futures du quantique. \nLes inscriptions sont ouvertes\, pour plus de détails cliquez ici. \n 
URL:https://www.prima.ca/evenement/sommet-france-quebec-sur-le-quantique/
LOCATION:FL
ATTACH;FMTTYPE=image/png:https://www.prima.ca/wp-content/uploads/2021/10/Cover_event___RS__25_.png
END:VEVENT
END:VCALENDAR