BEGIN:VCALENDAR
VERSION:2.0
PRODID:-//PRIMA Québec - ECPv6.2.8.1//NONSGML v1.0//EN
CALSCALE:GREGORIAN
METHOD:PUBLISH
X-WR-CALNAME:PRIMA Québec
X-ORIGINAL-URL:https://www.prima.ca
X-WR-CALDESC:Events for PRIMA Québec
REFRESH-INTERVAL;VALUE=DURATION:PT1H
X-Robots-Tag:noindex
X-PUBLISHED-TTL:PT1H
BEGIN:VTIMEZONE
TZID:America/Toronto
BEGIN:DAYLIGHT
TZOFFSETFROM:-0500
TZOFFSETTO:-0400
TZNAME:EDT
DTSTART:20210314T070000
END:DAYLIGHT
BEGIN:STANDARD
TZOFFSETFROM:-0400
TZOFFSETTO:-0500
TZNAME:EST
DTSTART:20211107T060000
END:STANDARD
END:VTIMEZONE
BEGIN:VEVENT
DTSTART;TZID=America/Toronto:20211124T090000
DTEND;TZID=America/Toronto:20211124T120000
DTSTAMP:20260422T232958
CREATED:20211022T152817Z
LAST-MODIFIED:20211029T140455Z
UID:5858-1637744400-1637755200@www.prima.ca
SUMMARY:Portes ouvertes - Espace IBM Quantique
DESCRIPTION:L’Espace IBM Quantique de l’IQ vous convie à ses deuxièmes portes ouvertes virtuelles le mercredi 24 novembre 2021 de 9 h à 12 h. \nCet événement en ligne permettra de vous familiariser avec les projets en programmation quantique de nos membres et partenaires ainsi que les développements les plus récents de la technologie quantique d’IBM. \nCe sera également une opportunité d’en apprendre davantage sur les initiatives de l’IQ en vulgarisation quantique. \nProgramme et inscription
URL:https://www.prima.ca/evenement/portes-ouvertes-espace-ibm-quantique/
LOCATION:FL
ATTACH;FMTTYPE=image/png:https://www.prima.ca/wp-content/uploads/2021/10/portes-ouvertes-Espace-IBM.png
END:VEVENT
BEGIN:VEVENT
DTSTART;TZID=America/Toronto:20211124T090000
DTEND;TZID=America/Toronto:20211124T170000
DTSTAMP:20260422T232958
CREATED:20211102T153145Z
LAST-MODIFIED:20211102T153145Z
UID:5989-1637744400-1637773200@www.prima.ca
SUMMARY:3e Forum sur l'innovation du CIMEQ
DESCRIPTION:L’ISEQ et le CIMEQ vous invitent au 3e Forum sur l’innovation\, l’intelligence artificielle : Les environnements intelligents\, le mercredi 24 novembre 2021 de 9 h à 17 h. Une journée complète de conférences virtuelles abordant divers thèmes autour de l’intelligence artificielle\, dont les technologies quantiques\, les environnements intelligents et l’intelligence véhiculaire. Plusieurs conférenciers de sont au programme\, dont Luc Sirois\, l’innovateur en chef du Québec\, Marco Blouin\, du MEI\, Julie Côté d’Experisens\, et plusieurs autres. \nPour plus de détails et pour vous inscrire\, cliquez ici.
URL:https://www.prima.ca/evenement/3e-forum-sur-linnovation-du-cimeq/
LOCATION:FL
ATTACH;FMTTYPE=image/png:https://www.prima.ca/wp-content/uploads/2021/11/cimeq.png
END:VEVENT
BEGIN:VEVENT
DTSTART;TZID=America/Toronto:20211124T100000
DTEND;TZID=America/Toronto:20211124T123000
DTSTAMP:20260422T232958
CREATED:20211117T201526Z
LAST-MODIFIED:20211117T201747Z
UID:6025-1637748000-1637757000@www.prima.ca
SUMMARY:PERSPECTIVE QUANTUM #7
DESCRIPTION:L’ISEQ\, INTRIQ\, COPL\, Québec Quantique\, Optonique et NUMANA  vous invitent le mercredi 24 novembre dès 10h00 au 7e webinaire de la série Perspective Quantum pour un retour sur les faits marquants pour l’industrie quantique issus de la dernière édition du Inside Quantum Technology (IQT) de début novembre. \nPour ce retour d’expérience\, quatre conférenciers seront présents: Christopher Bishop de l’Inside Quantum Technology (IQT)\, Yoann Jestin de Ki3 Photonics\, Chloé Archamblault d’Anyons Sytems et Félix Beaudouin de Nanoacademic Technologies. \nWébinaire en anglais \nIncription gratuite ICI
URL:https://www.prima.ca/evenement/6025/
LOCATION:FL
ATTACH;FMTTYPE=image/png:https://www.prima.ca/wp-content/uploads/2021/11/pq7-iqt-1637007053.png
END:VEVENT
END:VCALENDAR