BEGIN:VCALENDAR
VERSION:2.0
PRODID:-//PRIMA Québec - ECPv6.2.8.1//NONSGML v1.0//EN
CALSCALE:GREGORIAN
METHOD:PUBLISH
X-WR-CALNAME:PRIMA Québec
X-ORIGINAL-URL:https://www.prima.ca
X-WR-CALDESC:Events for PRIMA Québec
REFRESH-INTERVAL;VALUE=DURATION:PT1H
X-Robots-Tag:noindex
X-PUBLISHED-TTL:PT1H
BEGIN:VTIMEZONE
TZID:America/Toronto
BEGIN:DAYLIGHT
TZOFFSETFROM:-0500
TZOFFSETTO:-0400
TZNAME:EDT
DTSTART:20210314T070000
END:DAYLIGHT
BEGIN:STANDARD
TZOFFSETFROM:-0400
TZOFFSETTO:-0500
TZNAME:EST
DTSTART:20211107T060000
END:STANDARD
END:VTIMEZONE
BEGIN:VEVENT
DTSTART;TZID=America/Toronto:20211111T073000
DTEND;TZID=America/Toronto:20211111T133000
DTSTAMP:20260423T134846
CREATED:20211028T195240Z
LAST-MODIFIED:20211028T195240Z
UID:5940-1636615800-1636637400@www.prima.ca
SUMMARY:Innovations en recyclage et en valorisation des plastiques
DESCRIPTION:Venez vous inspirer\, trouver des solutions et entendre des industriels d’entreprises connues parler de leur vision\, des stratégies et des initiatives qu’ils ont mises en place pour le recyclage et la valorisation des plastiques ! \nAu programme :\n– La vision de RECYC-QUÉBEC\n– Les solutions technologiques pour vous aider\n– Les stratégies et les initiatives mises en place par des industriels connus\n Invités : TC Transcontinental\, Soprema\, Soleno et Lavergne\n– Animation : M. Yanick Villedieu\, Journaliste scientifique\n– Dîner réseautage \nFin de l’événement : 13h15 \nEn mode virtuel ou présentiel\, inscrivez-vous ici et découvrez la programmation complète de l’événement.
URL:https://www.prima.ca/evenement/innovations-en-recyclage-et-en-valorisation-des-plastiques/
LOCATION:Centre des Congrès de Thetford Mines\, 777\, 9e rue Sud\, Thetford Mines\, QC\, G6G 0G1\, Canada
ATTACH;FMTTYPE=image/png:https://www.prima.ca/wp-content/uploads/2021/10/COALIA.png
END:VEVENT
BEGIN:VEVENT
DTSTART;TZID=America/Toronto:20211111T090000
DTEND;TZID=America/Toronto:20211111T170000
DTSTAMP:20260423T134846
CREATED:20211022T153421Z
LAST-MODIFIED:20211022T153421Z
UID:5862-1636621200-1636650000@www.prima.ca
SUMMARY:Webinaire international du CREPEC
DESCRIPTION:Ne manquez pas le premier webinaire international du CREPEC sur les matériaux composites le 11 novembre prochain ! \nDurant cette rencontre\, vous aurez la chance d’en apprendre davantage sur les travaux de recherche du Pr Louis Laberge-Lebel (Polytechnique Montréal)\, du Pr Mehdi Hojjati (Concordia University) et du Dr François Lebel (Centre technologique en aérospatial). \nUne présentation du centre faite par le Pr Pascal Hubert aura également lieu. \nInscrivez-vous\, en cliquant ici.
URL:https://www.prima.ca/evenement/webinaire-international-du-crepec/
LOCATION:FL
ATTACH;FMTTYPE=image/png:https://www.prima.ca/wp-content/uploads/2021/10/Crepec-e1634916840523.png
END:VEVENT
END:VCALENDAR