BEGIN:VCALENDAR
VERSION:2.0
PRODID:-//PRIMA Québec - ECPv6.2.8.1//NONSGML v1.0//EN
CALSCALE:GREGORIAN
METHOD:PUBLISH
X-WR-CALNAME:PRIMA Québec
X-ORIGINAL-URL:https://www.prima.ca
X-WR-CALDESC:Events for PRIMA Québec
REFRESH-INTERVAL;VALUE=DURATION:PT1H
X-Robots-Tag:noindex
X-PUBLISHED-TTL:PT1H
BEGIN:VTIMEZONE
TZID:America/Toronto
BEGIN:DAYLIGHT
TZOFFSETFROM:-0500
TZOFFSETTO:-0400
TZNAME:EDT
DTSTART:20210314T070000
END:DAYLIGHT
BEGIN:STANDARD
TZOFFSETFROM:-0400
TZOFFSETTO:-0500
TZNAME:EST
DTSTART:20211107T060000
END:STANDARD
END:VTIMEZONE
BEGIN:VEVENT
DTSTART;TZID=America/Toronto:20211109T073000
DTEND;TZID=America/Toronto:20211109T090000
DTSTAMP:20260423T064525
CREATED:20211102T153008Z
LAST-MODIFIED:20211102T153228Z
UID:5983-1636443000-1636448400@www.prima.ca
SUMMARY:Déclic Techno #2
DESCRIPTION:L’ISEQ vous invite au Déclic techno #2 le mardi 9 novembre prochain de 7 h à 9 h 30 avec MEDTEQ et d’autres invités. Au programme\, retrouvez KYNZE\, Florent Lefèvre et ses capteurs connectés à base d’électronique imprimée\, Ditch Labs\, Laurent Laferrière et Olivier Bourbonnais avec leur solution de sevrage à la nicotine à base d’intelligence artificielle. Finalement\, dans la rubrique des anciens présentateurs\, nous reviendrons sur le parcours de GPHY avec Pier-Etienne Lehoux et pour parler de leur écosystème de startups\, le RSRI MEDTEQ+ avec Miled Bourourou. \nÉvénement gratuit en ligne\, inscrivez-vous ici.
URL:https://www.prima.ca/evenement/declic-techno-2/
LOCATION:FL
ATTACH;FMTTYPE=image/png:https://www.prima.ca/wp-content/uploads/2021/11/declic-techno-iseq-1631639323.png
END:VEVENT
END:VCALENDAR