BEGIN:VCALENDAR
VERSION:2.0
PRODID:-//PRIMA Québec - ECPv6.2.8.1//NONSGML v1.0//EN
CALSCALE:GREGORIAN
METHOD:PUBLISH
X-WR-CALNAME:PRIMA Québec
X-ORIGINAL-URL:https://www.prima.ca
X-WR-CALDESC:Events for PRIMA Québec
REFRESH-INTERVAL;VALUE=DURATION:PT1H
X-Robots-Tag:noindex
X-PUBLISHED-TTL:PT1H
BEGIN:VTIMEZONE
TZID:America/Toronto
BEGIN:DAYLIGHT
TZOFFSETFROM:-0500
TZOFFSETTO:-0400
TZNAME:EDT
DTSTART:20210314T070000
END:DAYLIGHT
BEGIN:STANDARD
TZOFFSETFROM:-0400
TZOFFSETTO:-0500
TZNAME:EST
DTSTART:20211107T060000
END:STANDARD
END:VTIMEZONE
BEGIN:VEVENT
DTSTART;VALUE=DATE:20211026
DTEND;VALUE=DATE:20211029
DTSTAMP:20260423T134854
CREATED:20211022T151751Z
LAST-MODIFIED:20211022T154915Z
UID:5844-1635206400-1635465599@www.prima.ca
SUMMARY:Grand colloque Agtech du Québec 2021
DESCRIPTION:La Zone Agtech annonce la tenue de la 2e édition du Grand Colloque Agtech du Québec\, destiné à mettre en valeur l’expertise et le savoir-faire du Québec en matière d’innovation technologique dans le secteur agricole et agroalimentaire. Présenté par le centre de recherche pancanadien INO\, en partenariat avec l’entreprise québécoise Vooban\, l’événement\, qui se tiendra du 26 au 28 octobre 2021 en mode virtuel\, accueillera plus de 40 experts de l’industrie agricole et des technologies agricoles innovantes afin d’accélérer le développement et l’intégration des nouvelles technologies québécoises dans le secteur. \nPour en savoir plus\, visitez la page web de l’événement.
URL:https://www.prima.ca/evenement/grand-colloque-agtech-du-quebec-2021/
LOCATION:FL
ATTACH;FMTTYPE=image/png:https://www.prima.ca/wp-content/uploads/2021/10/Colloque-Agtech.png
END:VEVENT
END:VCALENDAR