BEGIN:VCALENDAR
VERSION:2.0
PRODID:-//PRIMA Québec - ECPv6.2.8.1//NONSGML v1.0//EN
CALSCALE:GREGORIAN
METHOD:PUBLISH
X-WR-CALNAME:PRIMA Québec
X-ORIGINAL-URL:https://www.prima.ca
X-WR-CALDESC:Events for PRIMA Québec
REFRESH-INTERVAL;VALUE=DURATION:PT1H
X-Robots-Tag:noindex
X-PUBLISHED-TTL:PT1H
BEGIN:VTIMEZONE
TZID:America/Toronto
BEGIN:DAYLIGHT
TZOFFSETFROM:-0500
TZOFFSETTO:-0400
TZNAME:EDT
DTSTART:20210314T070000
END:DAYLIGHT
BEGIN:STANDARD
TZOFFSETFROM:-0400
TZOFFSETTO:-0500
TZNAME:EST
DTSTART:20211107T060000
END:STANDARD
END:VTIMEZONE
BEGIN:VEVENT
DTSTART;VALUE=DATE:20211021
DTEND;VALUE=DATE:20211022
DTSTAMP:20260423T193032
CREATED:20210525T211642Z
LAST-MODIFIED:20210525T211748Z
UID:5078-1634774400-1634860799@www.prima.ca
SUMMARY:Virtual Launch Celebration - NanoCanada
DESCRIPTION:Virtual Launch Celebration – Online\nOctober 21\, 2021 \nHIGHLIGHTS \nKeynote speakers in Health and Nanotechnology\,\nSustainability\, and the Future and Beyond. \nPanel discussions \nView the program \n\n\n\n  \nEarth to Space Conference at the Edmonton\nConvention Centre\nJune 8-10\, 2022 \nHIGHLIGHTS \nDaily\, high-profile keynotes. \nIndustry pitch challenges and panel discussions. \nA tech showcase exhibition\, networking opportunities. \nOptional site visits\, and more! \n\n\nLearn more
URL:https://www.prima.ca/evenement/from-earth-to-space-conference-nanocanada/
LOCATION:FL
ATTACH;FMTTYPE=image/png:https://www.prima.ca/wp-content/uploads/2020/03/NanoCanada-International-Conference.png
END:VEVENT
END:VCALENDAR