BEGIN:VCALENDAR
VERSION:2.0
PRODID:-//PRIMA Québec - ECPv6.2.8.1//NONSGML v1.0//EN
CALSCALE:GREGORIAN
METHOD:PUBLISH
X-WR-CALNAME:PRIMA Québec
X-ORIGINAL-URL:https://www.prima.ca
X-WR-CALDESC:Events for PRIMA Québec
REFRESH-INTERVAL;VALUE=DURATION:PT1H
X-Robots-Tag:noindex
X-PUBLISHED-TTL:PT1H
BEGIN:VTIMEZONE
TZID:America/Toronto
BEGIN:DAYLIGHT
TZOFFSETFROM:-0500
TZOFFSETTO:-0400
TZNAME:EDT
DTSTART:20210314T070000
END:DAYLIGHT
BEGIN:STANDARD
TZOFFSETFROM:-0400
TZOFFSETTO:-0500
TZNAME:EST
DTSTART:20211107T060000
END:STANDARD
END:VTIMEZONE
BEGIN:VEVENT
DTSTART;TZID=America/Toronto:20211006T143000
DTEND;TZID=America/Toronto:20211006T160000
DTSTAMP:20260423T093742
CREATED:20210929T182413Z
LAST-MODIFIED:20210929T182413Z
UID:5744-1633530600-1633536000@www.prima.ca
SUMMARY:Technologies quantiques – Comment financer votre projet de recherche ?
DESCRIPTION:Une collaboration de 4 regroupements stratégiques (COPL\, INTRIQ\, ResMiQ et RQMP) ainsi que PROMPT\, PRIMA\, Québec quantique et Numana\, vous propose un webinaire sur le financement accessible au développement des technologies quantiques. \nL’objectif de ce webinaire est de permettre à la communauté universitaire de mieux connaître les RSRI\, le financement de la recherche académique ou non et de faire connaître l’Appel de projets d’innovation en technologies quantiques : recherche industrielle en collaboration et soutien à l’entrepreneuriat du MEI dont la date de tombée est le 30 novembre 16h. \nLe programme proposé se divise comme suit :\n– 14h25 – Mot d’ouverture par Nicolas Godbout\, professeur à Polytechnique Montréal et directeur de l’INTRIQ\n– 14h30 – Présentation des RSRI PROMPT & PRIMA par Jinny Plourde\, Directrice de programmes\, PSO & Quantique chez PROMPT\n– 14h40 – Portrait des sources de financement de la recherche universitaire par Holly Gurbacki\, bureau de la recherche à Polytechnique Montréal\n– 14h50 – Portrait des sources de financement non universitaire et courte introduction de Québec quantique Olivier Gagon-Gordillo\, Responsable stratégie et développement de Québec Quantique\n– 15h00 – Entrevues avec des duos (chercheur – personne du privé) sur leur expérience de collaboration lors des appels à projets précédents\n• 15h00 : Pr Roberto Morandotti\, INRS et Yoann Jestin\, Ki3 photonics\n• 15h20 : Pr Raman Kashyap\, Polytechnique et MPB communications\n• 15h40 : Duo Chercheur – entreprise privée à venir\n– 16h00 – Mot de clôture \n  \nPour vous inscrire cliquez ici.
URL:https://www.prima.ca/evenement/technologies-quantiques-comment-financer-votre-projet-de-recherche/
LOCATION:FL
ATTACH;FMTTYPE=image/png:https://www.prima.ca/wp-content/uploads/2021/09/Evt-PRIMA.png
END:VEVENT
END:VCALENDAR