BEGIN:VCALENDAR
VERSION:2.0
PRODID:-//PRIMA Québec - ECPv6.2.8.1//NONSGML v1.0//EN
CALSCALE:GREGORIAN
METHOD:PUBLISH
X-WR-CALNAME:PRIMA Québec
X-ORIGINAL-URL:https://www.prima.ca
X-WR-CALDESC:Events for PRIMA Québec
REFRESH-INTERVAL;VALUE=DURATION:PT1H
X-Robots-Tag:noindex
X-PUBLISHED-TTL:PT1H
BEGIN:VTIMEZONE
TZID:America/Toronto
BEGIN:DAYLIGHT
TZOFFSETFROM:-0500
TZOFFSETTO:-0400
TZNAME:EDT
DTSTART:20210314T070000
END:DAYLIGHT
BEGIN:STANDARD
TZOFFSETFROM:-0400
TZOFFSETTO:-0500
TZNAME:EST
DTSTART:20211107T060000
END:STANDARD
END:VTIMEZONE
BEGIN:VEVENT
DTSTART;VALUE=DATE:20210913
DTEND;VALUE=DATE:20210917
DTSTAMP:20260423T193101
CREATED:20210119T210106Z
LAST-MODIFIED:20210322T185636Z
UID:4160-1631491200-1631836799@www.prima.ca
SUMMARY:Solving Global Materials Challenges
DESCRIPTION:STRONGER. TOGETHER. ASM is the only society that unites different market segments that cross the entire materials world.\nPlanning is well underway for IMAT 2021\, ASM’s re-imagined Annual Meeting. A diverse group of materials experts\, including the ASM Programming Committees\, AeroMat Committee\, and all six of ASM’s Affiliate Societies\, are heavily involved in building the technical symposiums\, which will have a strong focus on application-oriented\, real-world technologies that can be put to use today. For more information
URL:https://www.prima.ca/evenement/solving-global-materials-challenges/
LOCATION:St.Louis\, Missouri
ATTACH;FMTTYPE=image/jpeg:https://www.prima.ca/wp-content/uploads/2021/01/IMAT-2021_Website-Images_Hero-2.jpg
END:VEVENT
END:VCALENDAR