BEGIN:VCALENDAR
VERSION:2.0
PRODID:-//PRIMA Québec - ECPv6.2.8.1//NONSGML v1.0//EN
CALSCALE:GREGORIAN
METHOD:PUBLISH
X-ORIGINAL-URL:https://www.prima.ca
X-WR-CALDESC:Events for PRIMA Québec
REFRESH-INTERVAL;VALUE=DURATION:PT1H
X-Robots-Tag:noindex
X-PUBLISHED-TTL:PT1H
BEGIN:VTIMEZONE
TZID:America/Toronto
BEGIN:DAYLIGHT
TZOFFSETFROM:-0500
TZOFFSETTO:-0400
TZNAME:EDT
DTSTART:20210314T070000
END:DAYLIGHT
BEGIN:STANDARD
TZOFFSETFROM:-0400
TZOFFSETTO:-0500
TZNAME:EST
DTSTART:20211107T060000
END:STANDARD
END:VTIMEZONE
BEGIN:VEVENT
DTSTART;VALUE=DATE:20210908
DTEND;VALUE=DATE:20210910
DTSTAMP:20260425T072316
CREATED:20210810T184048Z
LAST-MODIFIED:20210810T184048Z
UID:5457-1631059200-1631231999@www.prima.ca
SUMMARY:ACI's 16th Carbon Dioxide Utilization Summit
DESCRIPTION:16e Sommet sur l’utilisation du dioxyde de carbone par l’ACI \nL’événement réunira des experts chevronnés de diverses industries émettrices de CO2 qui discuteront des aspects durables\, technologiques et commerciaux de l’utilisation du CO2 au Canada et à travers le monde. \nAvec des comparaisons technologiques axées sur des indicateurs économiques\, environnementaux et sociaux\, le panel de conférenciers mettra en évidence des idées éclairées sur l’application commerciale et le développement de technologies et de produits. \nL’année dernière\, l’accent a été mis sur la voie de la commercialisation des technologies de capture\, d’utilisation et de stockage du CO2. Cette année\, il y aura encore des focus là-dessus\, car il est important que les start-up le sachent. En bonus\, il y aura plus d’études de cas sur les technologies d’utilisation déjà commercialisées et réussies et leurs utilisations. \n  \nPour plus d’informations ou vous inscrire\, cliquez ici \n 
URL:https://www.prima.ca/evenement/acis-16th-carbon-dioxide-utilization-summit/
LOCATION:Montréal – Canada
ATTACH;FMTTYPE=image/jpeg:https://www.prima.ca/wp-content/uploads/2021/08/carbon_banner-copy-1220x270-1.jpg
END:VEVENT
BEGIN:VEVENT
DTSTART;TZID=America/Toronto:20210909T090000
DTEND;TZID=America/Toronto:20210909T110000
DTSTAMP:20260425T072316
CREATED:20210902T174859Z
LAST-MODIFIED:20210902T174859Z
UID:5603-1631178000-1631185200@www.prima.ca
SUMMARY:Biomedicine’s next frontier: biomimicry\, customization and point-of-care manufacturing using 4D bioprinting
DESCRIPTION:Le Centre de recherche sur les matériaux avancés de l’Université Laval (CERMA) et la Société canadienne des biomatériaux-Section Québec\, en collaboration avec Spectra Research Corporation\, ont le plaisir de vous inviter à une conférence sur la Bioimpression 4D. \nConférencière : Da-Yae Lee\, Bio-consultante senior et cheffe de projet au sein de l’équipe Global Business Development chez ROKIT Healthcare. \nRencontre avec la conférencière \nUne rencontre en présentiel est également organisée l’après-midi à partir de 14h00 pour les personnes intéressées à rencontrer la conférencière et discuter directement avec elle (campus de l’Université Laval\, Pavillon Adrien-Pouliot\, salle PLT-3510) \nRésumé de la conférence \nThis seminar introduces ROKIT Healthcare’s state-of-the-art 4D bioprinting system Dr. INVIVO 4D6\, the world’s first of its kind to combine a cell incubator with a 6-printhead multi-material fabrication capability and a complete particle control. We will share the vision behind the Dr. INVIVO 4D6 development\, from creating novel personalized medicines based on bioprinting to revolutionizing the healthcare supply chain through in-hospital manufacturing. \nThe seminar reinforces the significance of bioprinting advancements in the age of Industry 4.0 – as a movement aligned with global megatrends in healthcare toward personalized medicine\, computer-aided production of biological processes\, and autologous regenerative therapy. \n  \nÀ noter que pour des raisons sanitaires\, le nombre de place est limité. Veuillez vous inscrire pour nous faire part de votre intention d’assister à la conférence en ligne ou en personne (premier inscrit\, premier servi).
URL:https://www.prima.ca/evenement/biomedicines-next-frontier-biomimicry-customization-and-point-of-care-manufacturing-using-4d-bioprinting/
LOCATION:Hôpital Saint François d’Assise\, A0-202 (Amphithéâtre Roger-Breault)\, 10 Rue de l'Espinay\, Québec\, QC\, G1L 3L5\, Canada
ATTACH;FMTTYPE=image/png:https://www.prima.ca/wp-content/uploads/2021/09/Image1.png
END:VEVENT
END:VCALENDAR