BEGIN:VCALENDAR
VERSION:2.0
PRODID:-//PRIMA Québec - ECPv6.2.8.1//NONSGML v1.0//EN
CALSCALE:GREGORIAN
METHOD:PUBLISH
X-WR-CALNAME:PRIMA Québec
X-ORIGINAL-URL:https://www.prima.ca
X-WR-CALDESC:Events for PRIMA Québec
REFRESH-INTERVAL;VALUE=DURATION:PT1H
X-Robots-Tag:noindex
X-PUBLISHED-TTL:PT1H
BEGIN:VTIMEZONE
TZID:America/Toronto
BEGIN:DAYLIGHT
TZOFFSETFROM:-0500
TZOFFSETTO:-0400
TZNAME:EDT
DTSTART:20210314T070000
END:DAYLIGHT
BEGIN:STANDARD
TZOFFSETFROM:-0400
TZOFFSETTO:-0500
TZNAME:EST
DTSTART:20211107T060000
END:STANDARD
END:VTIMEZONE
BEGIN:VEVENT
DTSTART;TZID=America/Toronto:20210622T083000
DTEND;TZID=America/Toronto:20210622T100000
DTSTAMP:20260425T081913
CREATED:20210604T163945Z
LAST-MODIFIED:20210610T130614Z
UID:5161-1624350600-1624356000@www.prima.ca
SUMMARY:CAFÉ AGTECH - PRIMA Québec
DESCRIPTION:Les matériaux avancés : Un champ de potentiels pour le secteur agricole \nDescription :  La Zone Agtech vous invite à rencontrer PRIMA Québec\, le Pôle de Recherche et Innovation en Matériaux Avancés du Québec\, dans le cadre du Café Agtech du 22 juin. Pour l’occasion\, PRIMA Québec présentera ses programmes financement pour le développement des innovations agtech qui utilisent les matériaux avancés\, tels que les matériaux biosourcés\, les capteurs\, les biocomposites et les technologies quantiques\, et présentera deux cas de réalisation concrets appliqués au secteur agricole\, notamment celui de notre membre Dubois Agrinovation. \nChaque participant aura 2 minutes pour se présenter. Un temps sera prévu\, à la fin\, pour des discussions informelles. \nProgramme : \n\n8h30 : Accueil des participants.\n8h40 : Présentation de PRIMA Québec et des programmes de financement de projets collaboratifs de R&D – Sébastien Garbarino – Conseiller – Infrastructure et innovation;\n8h55 : Polytechnique Montréal : Vers des applications et quelques exemples de projets industriels – Stephan Reuter – Professeur en Physique et Spectroscopie des plasmas;\n9h20: Dubois Agrinovation :  Présentation de l’entreprise et des thématiques R&D – Martin Charbonneau\, Directeur stratégie et gestion des affaires et Éric Ménard\, Directeur développement des affaires;\n9h50 : Période de questions et réseautage\n10h: Fin\n\nProgrammation et inscription : https://bit.ly/3zdvdFR \nGratuit pour les membres de la Zone Agtech et de Prima Québec \nPour devenir membre de la zone Agtech : http://bit.ly/2x6d8Oe \nPour devenir membre de PRIMA Québec : https://www.prima.ca/produit/membership-prima-quebec/
URL:https://www.prima.ca/evenement/cafe-agtech-prima-quebec/
LOCATION:FL
ATTACH;FMTTYPE=image/jpeg:https://www.prima.ca/wp-content/uploads/2021/06/Prima-Québec_Sébastien.jpg
END:VEVENT
END:VCALENDAR