BEGIN:VCALENDAR
VERSION:2.0
PRODID:-//PRIMA Québec - ECPv6.2.8.1//NONSGML v1.0//EN
CALSCALE:GREGORIAN
METHOD:PUBLISH
X-WR-CALNAME:PRIMA Québec
X-ORIGINAL-URL:https://www.prima.ca
X-WR-CALDESC:Events for PRIMA Québec
REFRESH-INTERVAL;VALUE=DURATION:PT1H
X-Robots-Tag:noindex
X-PUBLISHED-TTL:PT1H
BEGIN:VTIMEZONE
TZID:America/Toronto
BEGIN:DAYLIGHT
TZOFFSETFROM:-0500
TZOFFSETTO:-0400
TZNAME:EDT
DTSTART:20210314T070000
END:DAYLIGHT
BEGIN:STANDARD
TZOFFSETFROM:-0400
TZOFFSETTO:-0500
TZNAME:EST
DTSTART:20211107T060000
END:STANDARD
END:VTIMEZONE
BEGIN:VEVENT
DTSTART;VALUE=DATE:20210511
DTEND;VALUE=DATE:20210619
DTSTAMP:20260423T222104
CREATED:20210521T200309Z
LAST-MODIFIED:20210521T200309Z
UID:5051-1620691200-1624060799@www.prima.ca
SUMMARY:BMW 360° Sustainability Challenge
DESCRIPTION:BMW 360° Sustainability Challenge\, a été lancé récemment\, afin d’encourager le plus grand nombre possible de candidatures de start-up canadiennes. Le constructeur automobile allemand BMW s’est fixé un objectif ambitieux de réduction des émissions de CO² de 200 millions de tonnes d’ici 2030\, qui concerne tous les aspects des produits et des activités de la société. Un facteur clé pour atteindre cet objectif est l’intégration des dernières technologies et solutions issues de la communauté mondiale des start-up. La plateforme de repérage technologique BMW Startup Garage gère le défi de la durabilité et propose son modèle éprouvé de « client à risque » pour permettre aux jeunes entreprises de participer en tant que fournisseur enregistré à des projets de validation de concept impliquant une rémunération. \nLa date limite de dépôt des candidatures est fixée au 28 juin 2021. \nLes candidats sélectionnés seront invités à présenter leur solution à BMW le 22 juillet et les candidats gagnants seront présentés lors de l’événement IAA Mobility à Munich en septembre. \n le flyer ou leur site internet pour plus d’informations\n 
URL:https://www.prima.ca/evenement/bmw-360-sustainability-challenge/
LOCATION:FL
ATTACH;FMTTYPE=image/jpeg:https://www.prima.ca/wp-content/uploads/2021/05/P90178773-bmw-startup-garage-is-in-search-for-great-potential-of-young-companies-04-2015-1618px.jpg
END:VEVENT
BEGIN:VEVENT
DTSTART;TZID=America/Toronto:20210526T120000
DTEND;TZID=America/Toronto:20210526T130000
DTSTAMP:20260423T222104
CREATED:20210511T142550Z
LAST-MODIFIED:20210511T142550Z
UID:4899-1622030400-1622034000@www.prima.ca
SUMMARY:Dévoilement des résultats du Baromètre industriel québécois – 12e édition
DESCRIPTION:Grâce à sa connaissance approfondie du domaine manufacturier\, STIQ dresse depuis 2009 un portrait annuel\, réaliste et concret\, de ce secteur indispensable au développement économique du Québec\, et ce\, à l’aide d’une série d’indicateurs mesurables. Ainsi\, il est possible de suivre l’évolution de divers sujets sur plusieurs années. \nCette démarche objective offre une vue d’ensemble sur la situation du secteur manufacturier québécois. Cette année\, en plus des indicateurs suivis annuellement\, des éléments touchant la situation particulière vécue par nos manufacturiers en 2020 seront présentés. Alors que certains constats sont prévisibles\, d’autres sont pour le moins surprenants ! \nWebinaire gratuit et ouvert à tous\, inscriptions obligatoires \nCliquez ici pour vous inscrire et obtenir plus de détails.
URL:https://www.prima.ca/evenement/devoilement-des-resultats-du-barometre-industriel-quebecois-12e-edition/
LOCATION:FL
ATTACH;FMTTYPE=image/jpeg:https://www.prima.ca/wp-content/uploads/2021/05/Barometre_petit.jpg
END:VEVENT
BEGIN:VEVENT
DTSTART;TZID=America/Toronto:20210526T130000
DTEND;TZID=America/Toronto:20210526T140000
DTSTAMP:20260423T222104
CREATED:20210518T123316Z
LAST-MODIFIED:20210518T123316Z
UID:4989-1622034000-1622037600@www.prima.ca
SUMMARY:UTTF Webinar - Enabling Scalable Hydrogen Refueling for FCEBs
DESCRIPTION:Canadian Hydrogen and Fuel Cell Association (CHFCA) invite ses collègues du secteur du transport urbain à assister à son prochain webinaire gratuit intitulé  » Enabling Scalable Hydrogen Refuelling for Fuel Cell Electric Buses (FCEBs) « \, le mercredi 26 mai de 13 h à 14 h HNE. \nInscrivez-vous dès maintenant en cliquant ici
URL:https://www.prima.ca/evenement/uttf-webinar-enabling-scalable-hydrogen-refueling-for-fcebs/
LOCATION:FL
ATTACH;FMTTYPE=image/jpeg:https://www.prima.ca/wp-content/uploads/2021/05/https-_cdn.evbuc_.com_images_135681757_198328341858_1_original.20210517-230435.jpg
END:VEVENT
END:VCALENDAR