BEGIN:VCALENDAR
VERSION:2.0
PRODID:-//PRIMA Québec - ECPv6.2.8.1//NONSGML v1.0//EN
CALSCALE:GREGORIAN
METHOD:PUBLISH
X-WR-CALNAME:PRIMA Québec
X-ORIGINAL-URL:https://www.prima.ca
X-WR-CALDESC:Events for PRIMA Québec
REFRESH-INTERVAL;VALUE=DURATION:PT1H
X-Robots-Tag:noindex
X-PUBLISHED-TTL:PT1H
BEGIN:VTIMEZONE
TZID:America/Toronto
BEGIN:DAYLIGHT
TZOFFSETFROM:-0500
TZOFFSETTO:-0400
TZNAME:EDT
DTSTART:20210314T070000
END:DAYLIGHT
BEGIN:STANDARD
TZOFFSETFROM:-0400
TZOFFSETTO:-0500
TZNAME:EST
DTSTART:20211107T060000
END:STANDARD
END:VTIMEZONE
BEGIN:VEVENT
DTSTART;VALUE=DATE:20210507
DTEND;VALUE=DATE:20210508
DTSTAMP:20260424T061434
CREATED:20210305T145301Z
LAST-MODIFIED:20210323T194936Z
UID:4450-1620345600-1620431999@www.prima.ca
SUMMARY:Mon entreprise en 180 secondes
DESCRIPTION:Votre entreprise recrute? Vous êtes à la recherche de personnel hautement qualifié dans le domaine des matériaux avancés? Cet événement est parfait pour vous! \nLe CERMA est fier d’annoncer la tenue de la toute première édition de « Mon entreprise en 180 secondes » le 7 mai prochain dans le cadre de son colloque étudiant annuel! Venez à la rencontre de centaines d’étudiant.e.s à la maîtrise et au doctorat et dénichez-y la perle rare pour compléter votre équipe. \nVous avez 180 secondes pour les convaincre qu’il n’y a pas meilleur employeur! Saurez-vous relever le défi? S’inscrire en 1 minute en cliquant ici.  Pour plus d’information\, contactez Josyane Turgeon.
URL:https://www.prima.ca/evenement/mon-entreprise-en-180-secondes/
LOCATION:FL
ATTACH;FMTTYPE=image/png:https://www.prima.ca/wp-content/uploads/2021/03/CERMA-Mon-entreprise-en-180-secondes.png
END:VEVENT
BEGIN:VEVENT
DTSTART;TZID=America/Toronto:20210507T080000
DTEND;TZID=America/Toronto:20210507T170000
DTSTAMP:20260424T061434
CREATED:20210408T160211Z
LAST-MODIFIED:20210408T160211Z
UID:4705-1620374400-1620406800@www.prima.ca
SUMMARY:Colloque annuelle du comité étudiant du CERMA
DESCRIPTION:Le comité étudiant est fier de vous inviter à l’édition 2021 du colloque du CERMA. À cette occasion\, les industries et les étudiants dans le domaine des matériaux seront regroupés et les étudiants gradués auront l’opportunité de présenter leurs travaux de recherche. \nCette initiative étudiante vise à promouvoir les activités du centre et particulièrement celles de nos étudiants. Vous aurez également l’occasion de faire du réseautage avec des représentants d’entreprise. Venez en grand nombre ce 7 mai! \nPour participer au colloque veuillez remplir le formulaire en cliquant ici\, pour obtenir plus d’informations consultez le site web.
URL:https://www.prima.ca/evenement/colloque-annuelle-du-comite-etudiant-du-cerma/
LOCATION:FL
ATTACH;FMTTYPE=image/jpeg:https://www.prima.ca/wp-content/uploads/2021/04/index.jpg
END:VEVENT
END:VCALENDAR