BEGIN:VCALENDAR
VERSION:2.0
PRODID:-//PRIMA Québec - ECPv6.2.8.1//NONSGML v1.0//EN
CALSCALE:GREGORIAN
METHOD:PUBLISH
X-WR-CALNAME:PRIMA Québec
X-ORIGINAL-URL:https://www.prima.ca
X-WR-CALDESC:Events for PRIMA Québec
REFRESH-INTERVAL;VALUE=DURATION:PT1H
X-Robots-Tag:noindex
X-PUBLISHED-TTL:PT1H
BEGIN:VTIMEZONE
TZID:America/Toronto
BEGIN:DAYLIGHT
TZOFFSETFROM:-0500
TZOFFSETTO:-0400
TZNAME:EDT
DTSTART:20210314T070000
END:DAYLIGHT
BEGIN:STANDARD
TZOFFSETFROM:-0400
TZOFFSETTO:-0500
TZNAME:EST
DTSTART:20211107T060000
END:STANDARD
END:VTIMEZONE
BEGIN:VEVENT
DTSTART;VALUE=DATE:20210317
DTEND;VALUE=DATE:20210320
DTSTAMP:20260425T082859
CREATED:20210210T165341Z
LAST-MODIFIED:20210323T200413Z
UID:4320-1615939200-1616198399@www.prima.ca
SUMMARY:Virtuel CPES2021 (Canadian Printed and flexible Electronics Symposium)
DESCRIPTION:L’événement annuel au Canada sur les produits électroniques imprimables\, flexibles et portables est de retour cette année en mode virtuel. \nNe manquez pas le CPES2021 les 17\, 18 et 19 mars prochains ! \nSous le thème « Leadership technique et réseautage international »\, venez en apprendre davantage sur la fabrication\, les connexions commerciales et internationales\, l’emballage et la chaîne d’approvisionnement\, l’application\, les exigences des détaillants et plus encore. \nBonne nouvelle : vous avez jusqu’au 28 février pour profiter du rabais « early bird » sur votre billet. Faites vite ! \nPour  en savoir plus\, cliquez ici.
URL:https://www.prima.ca/evenement/virtuel-cpes2021canadian-printed-and-flexible-electronics-symposium/
LOCATION:FL
ATTACH;FMTTYPE=image/jpeg:https://www.prima.ca/wp-content/uploads/2021/02/logo-CPES-2021_4-4.jpeg
END:VEVENT
END:VCALENDAR