BEGIN:VCALENDAR
VERSION:2.0
PRODID:-//PRIMA Québec - ECPv6.2.8.1//NONSGML v1.0//EN
CALSCALE:GREGORIAN
METHOD:PUBLISH
X-ORIGINAL-URL:https://www.prima.ca
X-WR-CALDESC:Events for PRIMA Québec
REFRESH-INTERVAL;VALUE=DURATION:PT1H
X-Robots-Tag:noindex
X-PUBLISHED-TTL:PT1H
BEGIN:VTIMEZONE
TZID:America/Toronto
BEGIN:DAYLIGHT
TZOFFSETFROM:-0500
TZOFFSETTO:-0400
TZNAME:EDT
DTSTART:20210314T070000
END:DAYLIGHT
BEGIN:STANDARD
TZOFFSETFROM:-0400
TZOFFSETTO:-0500
TZNAME:EST
DTSTART:20211107T060000
END:STANDARD
END:VTIMEZONE
BEGIN:VEVENT
DTSTART;TZID=America/Toronto:20210225T100000
DTEND;TZID=America/Toronto:20210225T230000
DTSTAMP:20260424T182652
CREATED:20210204T192350Z
LAST-MODIFIED:20210323T201000Z
UID:4284-1614247200-1614294000@www.prima.ca
SUMMARY:Webinaire sur le 22e appel de projets de PRIMA Québec
DESCRIPTION:Lancé le lundi 8 février 2021\, cet appel vise à soutenir l’innovation dans le domaine des matériaux avancés en finançant des programmes de recherche destinés à accélérer le développement de matériaux avancés comme réponse pratique aux grands défis industriels québécois. \nUne lettre d’intention est requise avant le vendredi 30 avril 2021\, à midi. La date de dépôt des demandes est le lundi 31 mai 2021\, à midi. PRIMA Québec organisera un webinaire qui présentera les règles de cet appel de projets le jeudi 25 février 2021 à 10 h\, cliquez ici pour vous inscrire. Pour en savoir plus\, rendez-vous sur la page WEB.
URL:https://www.prima.ca/evenement/webinaire-sur-le-22e-appel-de-projets-de-prima-quebec/
LOCATION:FL
ATTACH;FMTTYPE=image/jpeg:https://www.prima.ca/wp-content/uploads/2021/02/prima-visuel-appel-de-projets-R22-FR-1.jpg
END:VEVENT
END:VCALENDAR